BEGIN:VCALENDAR
VERSION:2.0
PRODID:-//wp-events-plugin.com//7.2.3.1//EN
TZID:America/New_York
X-WR-TIMEZONE:America/New_York
BEGIN:VEVENT
UID:111@adept-plm.com
DTSTART;TZID=America/New_York;VALUE=DATE:20220504
DTEND;TZID=America/New_York;VALUE=DATE:20220506
DTSTAMP:20220312T150838Z
URL:https://adept-plm.com/events/in-personpowerful-product-line-management
 -may-4-5-2022/
SUMMARY:Powerful Product Line Management
DESCRIPTION:2-day\, In-person Master Class on Powerful Product Line Managem
 ent
ATTACH;FMTTYPE=image/jpeg:https://adept-plm.com/wp-content/uploads/HP-PLM.
 jpg
CATEGORIES:In-person Master Class -CLICK ON HIGHLIGHTED
END:VEVENT
BEGIN:VTIMEZONE
TZID:America/New_York
X-LIC-LOCATION:America/New_York
BEGIN:DAYLIGHT
DTSTART:20220313T030000
TZOFFSETFROM:-0500
TZOFFSETTO:-0400
TZNAME:EDT
END:DAYLIGHT
END:VTIMEZONE
END:VCALENDAR