BEGIN:VCALENDAR
VERSION:2.0
PRODID:-//wp-events-plugin.com//7.2.3.1//EN
TZID:America/New_York
X-WR-TIMEZONE:America/New_York
BEGIN:VEVENT
UID:113@adept-plm.com
DTSTART;TZID=America/New_York;VALUE=DATE:20220628
DTEND;TZID=America/New_York;VALUE=DATE:20220630
DTSTAMP:20221220T135306Z
URL:https://adept-plm.com/events/powerful-product-line-management-2/
SUMMARY:Powerful Product Line Management
DESCRIPTION:2-day\, In-person Master Class on Powerful Product Line Managem
 ent
ATTACH;FMTTYPE=image/jpeg:https://adept-plm.com/wp-content/uploads/HP-PLM.
 jpg
CATEGORIES:In-person Master Class -CLICK ON HIGHLIGHTED
LOCATION:Ponte Vedra Beach\, FL\, Ponte Vedra Beach\, FL\, 32082\, 
GEO:30.240006;-81.38526
X-APPLE-STRUCTURED-LOCATION;VALUE=URI;X-ADDRESS=Ponte Vedra Beach\, FL\, 32
 082\, ;X-APPLE-RADIUS=100;X-TITLE=Ponte Vedra Beach\, FL:geo:30.240006,-81
 .38526
END:VEVENT
BEGIN:VTIMEZONE
TZID:America/New_York
X-LIC-LOCATION:America/New_York
BEGIN:DAYLIGHT
DTSTART:20220313T030000
TZOFFSETFROM:-0500
TZOFFSETTO:-0400
TZNAME:EDT
END:DAYLIGHT
END:VTIMEZONE
END:VCALENDAR