BEGIN:VCALENDAR
VERSION:2.0
PRODID:-//wp-events-plugin.com//7.2.3.1//EN
TZID:America/New_York
X-WR-TIMEZONE:America/New_York
BEGIN:VEVENT
UID:112@adept-plm.com
DTSTART;TZID=America/New_York;VALUE=DATE:20230208
DTEND;TZID=America/New_York;VALUE=DATE:20230210
DTSTAMP:20221220T140230Z
URL:https://adept-plm.com/events/powerful-product-line-management/
SUMMARY:Powerful Product Line Management
DESCRIPTION:2-day\, In-person Master Class on Powerful Product Line Managem
 ent
ATTACH;FMTTYPE=image/jpeg:https://adept-plm.com/wp-content/uploads/HP-PLM.
 jpg
CATEGORIES:In-person Master Class -CLICK ON HIGHLIGHTED
END:VEVENT
BEGIN:VTIMEZONE
TZID:America/New_York
X-LIC-LOCATION:America/New_York
BEGIN:STANDARD
DTSTART:20221106T010000
TZOFFSETFROM:-0400
TZOFFSETTO:-0500
TZNAME:EST
END:STANDARD
END:VTIMEZONE
END:VCALENDAR