BEGIN:VCALENDAR
VERSION:2.0
PRODID:-//wp-events-plugin.com//7.2.3.1//EN
TZID:America/New_York
X-WR-TIMEZONE:America/New_York
BEGIN:VEVENT
UID:25@adept-plm.com
DTSTART;TZID=America/New_York:20210506T080000
DTEND;TZID=America/New_York:20210506T100000
DTSTAMP:20210328T030204Z
URL:https://adept-plm.com/events/product-data-analytics-visualization-onli
 ne-workshop-2/
SUMMARY:Product Data Analytics & Visualization - Online Workshop
DESCRIPTION:\nLearn the power of analyzing and communicating products\, por
 tfolio\, and product lines with numbers and graphs.\n$495US\n\n2-hours\n\n
 This unique workshop couples to one-on-one coaching. First you attend an o
 pen workshop for 2 hours (see our dates and times below.) Then the Expert 
 joins your for a 90 minute coaching sessions using your data (or data stru
 cture.)\nLearn More and Register
ATTACH;FMTTYPE=image/jpeg:https://adept-plm.com/wp-content/uploads/Analyti
 csWorkshop2.png
CATEGORIES:Online Workshop
END:VEVENT
BEGIN:VTIMEZONE
TZID:America/New_York
X-LIC-LOCATION:America/New_York
BEGIN:DAYLIGHT
DTSTART:20210314T030000
TZOFFSETFROM:-0500
TZOFFSETTO:-0400
TZNAME:EDT
END:DAYLIGHT
END:VTIMEZONE
END:VCALENDAR