BEGIN:VCALENDAR
VERSION:2.0
PRODID:-//wp-events-plugin.com//7.2.3.1//EN
TZID:America/New_York
X-WR-TIMEZONE:America/New_York
BEGIN:VEVENT
UID:104@adept-plm.com
DTSTART;TZID=America/New_York:20220318T090000
DTEND;TZID=America/New_York:20220318T120000
DTSTAMP:20220129T043910Z
URL:https://adept-plm.com/events/product-line-strategy-online-workshop-14/
SUMMARY:Product Line Strategy - Online Workshop
DESCRIPTION:\nLearn the very essence of great product line strategies and h
 ow to improve any and every product line.\nWhen you complete this workshop
  you will know what separates great product line strategies from the rest.
 \n\n$295USD\n\n3-Hours of Impactful Learning\nLearn More and Register
ATTACH;FMTTYPE=image/jpeg:https://adept-plm.com/wp-content/uploads/RM-Work
 shop2.png
CATEGORIES:Online Workshop
END:VEVENT
BEGIN:VTIMEZONE
TZID:America/New_York
X-LIC-LOCATION:America/New_York
BEGIN:DAYLIGHT
DTSTART:20220313T030000
TZOFFSETFROM:-0500
TZOFFSETTO:-0400
TZNAME:EDT
END:DAYLIGHT
END:VTIMEZONE
END:VCALENDAR