BEGIN:VCALENDAR
VERSION:2.0
PRODID:-//wp-events-plugin.com//7.2.3.1//EN
TZID:America/New_York
X-WR-TIMEZONE:America/New_York
BEGIN:VEVENT
UID:146@adept-plm.com
DTSTART;TZID=America/New_York:20240220T090000
DTEND;TZID=America/New_York:20240221T163000
DTSTAMP:20240102T224233Z
URL:https://adept-plm.com/events/product-line-systems-management2-day-mast
 er-class20-21-february-2024/
SUMMARY:Product Line Systems Management2-Day Master Class20-21 February 202
 4
DESCRIPTION:2-day\, In-person Master Class on Powerful Product Line Managem
 ent
ATTACH;FMTTYPE=image/jpeg:https://adept-plm.com/wp-content/uploads/PLSM-Ma
 sterclass-Logo.png
CATEGORIES:In-person Master Class -CLICK ON HIGHLIGHTED
LOCATION:Hilton Garden Inn Jacksonville Ponte Vedra Beach Sawgrass\, 45 Tou
 rnament Players Club Blvd\, Ponte Vedra Beach\, FL\, 32082\, United States
X-APPLE-STRUCTURED-LOCATION;VALUE=URI;X-ADDRESS=45 Tournament Players Club 
 Blvd\, Ponte Vedra Beach\, FL\, 32082\, United States;X-APPLE-RADIUS=100;X
 -TITLE=Hilton Garden Inn Jacksonville Ponte Vedra Beach Sawgrass:geo:0,0
END:VEVENT
BEGIN:VTIMEZONE
TZID:America/New_York
X-LIC-LOCATION:America/New_York
BEGIN:STANDARD
DTSTART:20231105T010000
TZOFFSETFROM:-0400
TZOFFSETTO:-0500
TZNAME:EST
END:STANDARD
END:VTIMEZONE
END:VCALENDAR