BEGIN:VCALENDAR
VERSION:2.0
PRODID:-//wp-events-plugin.com//7.2.3.1//EN
TZID:America/New_York
X-WR-TIMEZONE:America/New_York
BEGIN:VEVENT
UID:59@adept-plm.com
DTSTART;TZID=America/New_York:20211029T090000
DTEND;TZID=America/New_York:20211029T120000
DTSTAMP:20210824T142107Z
URL:https://adept-plm.com/events/product-lines-as-systems-online-workshop-
 29/
SUMMARY:Product Lines as Systems - Online Workshop
DESCRIPTION:\nLearn how to improve a product line’s performance and carry
  out smart strategy moves and major pivots.\nThinking through\, planning\,
  and carrying out Smart Product Line Strategies and Roadmaps.\n\n$285USD\n
 \n3-Hours of Impactful Learning\nLearn More and Register
ATTACH;FMTTYPE=image/jpeg:https://adept-plm.com/wp-content/uploads/OnlineW
 orkshop-Logo.png
CATEGORIES:Online Workshop
END:VEVENT
BEGIN:VTIMEZONE
TZID:America/New_York
X-LIC-LOCATION:America/New_York
BEGIN:DAYLIGHT
DTSTART:20210314T030000
TZOFFSETFROM:-0500
TZOFFSETTO:-0400
TZNAME:EDT
END:DAYLIGHT
END:VTIMEZONE
END:VCALENDAR