BEGIN:VCALENDAR
VERSION:2.0
PRODID:-//wp-events-plugin.com//7.2.3.1//EN
TZID:America/New_York
X-WR-TIMEZONE:America/New_York
BEGIN:VEVENT
UID:92@adept-plm.com
DTSTART;TZID=America/New_York:20220303T090000
DTEND;TZID=America/New_York:20220303T120000
DTSTAMP:20220129T042613Z
URL:https://adept-plm.com/events/product-lines-as-systems-online-workshop-
 39/
SUMMARY:Product Lines as Systems - Online Workshop
DESCRIPTION:\nLearn how to improve a product line’s performance and carry
  out smart strategy moves and major pivots by implementing PLaaS - product
  line as a system.\nThinking through\, planning\, and carrying out Product
  Lines as Systems - their Archetypes\, Parts\, and Forces.\n\n$275USD\n\n3
 -Hours of Impactful Learning\nLearn More and Register
ATTACH;FMTTYPE=image/jpeg:https://adept-plm.com/wp-content/uploads/OnlineW
 orkshop-Logo.png
CATEGORIES:Online Workshop
END:VEVENT
BEGIN:VTIMEZONE
TZID:America/New_York
X-LIC-LOCATION:America/New_York
BEGIN:STANDARD
DTSTART:20211107T010000
TZOFFSETFROM:-0400
TZOFFSETTO:-0500
TZNAME:EST
END:STANDARD
END:VTIMEZONE
END:VCALENDAR