BEGIN:VCALENDAR
VERSION:2.0
PRODID:-//wp-events-plugin.com//7.2.3.1//EN
TZID:America/New_York
X-WR-TIMEZONE:America/New_York
BEGIN:VEVENT
UID:103@adept-plm.com
DTSTART;TZID=America/New_York:20220324T090000
DTEND;TZID=America/New_York:20220324T120000
DTSTAMP:20220130T174434Z
URL:https://adept-plm.com/events/responsive-product-line-roadmapping-onlin
 e-workshop-23/
SUMMARY:Responsive Product Line Roadmapping - Online Workshop
DESCRIPTION:\nCreate and carry out impactful product line moves\, recasts\,
  and pivots. Learn the key to continuous product line improvement. Perform
 ance matters.\n\nLearn how to improve any and every product line through s
 mart responsive roadmapping.\n\n$395USD\n\n3-Hours of Impactful Learning\n
 \nAttendees also receive roadmap templates with and example data structure
 s.\n\nLogin and contact information will be sent to the email you provide 
 upon registration.\n\nLearn More and Register
ATTACH;FMTTYPE=image/jpeg:https://adept-plm.com/wp-content/uploads/RM-Work
 shop2.png
CATEGORIES:Online Workshop
END:VEVENT
BEGIN:VTIMEZONE
TZID:America/New_York
X-LIC-LOCATION:America/New_York
BEGIN:DAYLIGHT
DTSTART:20220313T030000
TZOFFSETFROM:-0500
TZOFFSETTO:-0400
TZNAME:EDT
END:DAYLIGHT
END:VTIMEZONE
END:VCALENDAR